BEGIN:VCALENDAR
VERSION:2.0
PRODID:-//hacksw/handcal//NONSGML v1.0//EN
BEGIN:VEVENT
SUMMARY:Championnat de Kayak Polo - Nationale 3
UID:213fb2cd-a82b-4297-a287-2de1abdbb7a0
DTSTART:20260417T220000Z
DTEND:20260419T220000Z
LOCATION:Localisation   
CATEGORIES:Sportif
STATUS:
URL;VALUE=URI:https://snosck.sportsregions.fr/evenements/2026/04/18/championnat-de-kayak-polo-nationale-3-2443846
END:VEVENT
END:VCALENDAR
